BEGIN:VCALENDAR
VERSION:2.0
PRODID:-//ChamberMaster//Event Calendar 2.0//EN
METHOD:PUBLISH
X-PUBLISHED-TTL:P3D
REFRESH-INTERVAL:P3D
CALSCALE:GREGORIAN
BEGIN:VEVENT
DTSTART;VALUE=DATE:20100429
DTEND;VALUE=DATE:20100430
TRANSP:TRANSPARENT
X-MICROSOFT-CDO-ALLDAYEVENT:TRUE
SUMMARY:Annual Heartland Storytelling Festival 4/29/10
DESCRIPTION:Annual Heartland Storytelling Festival Thursday\, April 299:30 am\, 10:30 am\, Noon\, and 1 pm Homestead National Monument of America's Education Center Tales\, poems\, and songs\, and a unique puppet theater.  Interested?  Call Tina Miller\, 402-223-3514 or email tina_miller@nps.gov. No fee\, group reservations required. Funded in part by Nebraska Humanities Council and Nebraska Cultural Endowment and Beatrice Arts Council.
X-ALT-DESC;FMTTYPE=text/html:<div>Annual Heartland Storytelling Festival</div><div>&nbsp\;</div><div>Thursday\, April 29</div><div>9:30 am\, 10:30 am\, Noon\, and 1 pm</div><div>&nbsp\;</div><div>Homestead National Monument of America's Education Center</div><div>&nbsp\;</div><div>Tales\, poems\, and songs\, and a unique puppet theater.&nbsp\;</div><div>&nbsp\;</div><div>Interested?&nbsp\; Call Tina Miller\, 402-223-3514 or email <a href="mailto:tina_miller@nps.gov">tina_miller@nps.gov</a>.</div><div>&nbsp\;</div><div>No fee\, group reservations required.</div><div>&nbsp\;</div><div>Funded in part by Nebraska Humanities&nbsp\;Council and Nebraska Cultural Endowment and Beatrice Arts Council.</div>
LOCATION:
UID:e.41.1965
SEQUENCE:3
DTSTAMP:20260425T135905Z
URL:https://business.beatricechamber.com/events/details/annual-heartland-storytelling-festival-4-29-10-04-29-2010-1965
END:VEVENT

END:VCALENDAR
