BEGIN:VCALENDAR
VERSION:2.0
PRODID:-//ChamberMaster//Event Calendar 2.0//EN
METHOD:PUBLISH
X-PUBLISHED-TTL:P3D
REFRESH-INTERVAL:P3D
CALSCALE:GREGORIAN
BEGIN:VEVENT
DTSTART;VALUE=DATE:20101112
DTEND;VALUE=DATE:20101114
TRANSP:TRANSPARENT
X-MICROSOFT-CDO-ALLDAYEVENT:TRUE
SUMMARY:Annual Holiday Boutique
DESCRIPTION:Annual Holiday Boutique\n\n\n\nFriday\, November 12th\,  4 p.m. - 8 p.m.\n\nSaturday\, November 13th\, 9 a.m. - 2 p.m.\n\n\n\nDeWitt Community Center\, DeWitt\, NE\n\n\n\nYou are invited to a shopping extravaganza which will include:\n\nBeauti-Control by Alicia Buhr\n\nPampered Chef by Carla Schuster\n\nScentsy by Leslie Songster\n\nTastefully Simple by Kathy Diekman\n\nBack Street Styles by Annette Baxa (purses & jewelry)\n\n\n\nThis is a great opportunity to get a lot of your Christmas shopping done early!  Save the date!  Door prizes and special pricing all day long!
X-ALT-DESC;FMTTYPE=text/html:<strong><span style="font-size: 14px">Annual Holiday Boutique<br />\n<br />\nFriday\, November 12th\, &nbsp\;4 p.m. - 8 p.m.<br />\nSaturday\, November 13th\, 9 a.m. - 2 p.m.<br />\n<br />\nDeWitt Community Center\, DeWitt\, NE</span></strong><br />\n<br />\nYou are invited to a shopping extravaganza which will include:<br />\nBeauti-Control by Alicia Buhr<br />\nPampered Chef by Carla Schuster<br />\nScentsy by Leslie Songster<br />\nTastefully Simple by Kathy Diekman<br />\nBack Street Styles by Annette Baxa (purses &amp\; jewelry)<br />\n<br />\nThis is a great opportunity to get a lot of your Christmas shopping done early!&nbsp\; Save the date!&nbsp\; Door prizes and special pricing all day long!
LOCATION:
UID:e.41.2824
SEQUENCE:3
DTSTAMP:20260425T032750Z
URL:https://business.beatricechamber.com/events/details/annual-holiday-boutique-11-12-2010-2824
END:VEVENT

END:VCALENDAR
