BEGIN:VCALENDAR
VERSION:2.0
PRODID:-//ChamberMaster//Event Calendar 2.0//EN
METHOD:PUBLISH
X-PUBLISHED-TTL:P3D
REFRESH-INTERVAL:P3D
CALSCALE:GREGORIAN
BEGIN:VEVENT
DTSTART;VALUE=DATE:20111120
DTEND;VALUE=DATE:20111121
TRANSP:TRANSPARENT
X-MICROSOFT-CDO-ALLDAYEVENT:TRUE
SUMMARY:Annual Holiday Courthouse Lighting
DESCRIPTION:Courthouse Holiday Lighting\n\nSunday\, November 20\n\nBeatrice\, Nebraska\n\n\n\nNew\, Temporary Location:  Because of the newness of the Courthouse lawn\, this year only\, we will gather at the parking lot west of the Pinnacle Bank Drive-thru.  Parking is available in the parking lot south of the Christ Episcopal Church or in the parking lot west of Burger King.\n\n\n\n5:25 pm - Holiday caroling by the Homestead Harmonizers\n\n5:55 pm - Santa arrives\n\n6:00 pm - Lights go on at the Courthouse\n\n\n\n(Santa will have candy and visit with good little boys and girls after the lights go on!)
X-ALT-DESC;FMTTYPE=text/html:<span style="font-size: 16px">Courthouse Holiday Lighting</span><br />\nSunday\, November 20<br />\nBeatrice\, Nebraska<br />\n<br />\n<em>New\, <u>Temporary</u> Location:&nbsp\; Because of the newness of the Courthouse lawn\, this year only\, we will gather at the parking lot west of the Pinnacle Bank Drive-thru.&nbsp\; Parking is available in the parking lot south of the Christ Episcopal Church or in the parking lot west of Burger King.</em><br />\n<br />\n5:25 pm - Holiday caroling by the Homestead Harmonizers<br />\n5:55 pm - Santa arrives<br />\n6:00 pm - Lights go on at the Courthouse<br />\n<br />\n(Santa will have candy and visit with good little boys and girls after the lights go on!)<br />\n<br />\n
LOCATION:
UID:e.41.5189
SEQUENCE:3
DTSTAMP:20260424T100047Z
URL:https://business.beatricechamber.com/events/details/annual-holiday-courthouse-lighting-11-20-2011-5189
END:VEVENT

END:VCALENDAR
