BEGIN:VCALENDAR
VERSION:2.0
PRODID:-//ChamberMaster//Event Calendar 2.0//EN
METHOD:PUBLISH
X-PUBLISHED-TTL:P3D
REFRESH-INTERVAL:P3D
CALSCALE:GREGORIAN
BEGIN:VEVENT
DTSTART:20110807T210000Z
DTEND:20110808T000000Z
X-MICROSOFT-CDO-ALLDAYEVENT:FALSE
SUMMARY:Annual Ic Cream Social
DESCRIPTION:4-7 p.m.  Wymore United Methodist Church\, 10th & F\, Wymore\, NE.  Serving homemade ice cream\, pie\, and hot beef sandwiches.  Freewill donation.
X-ALT-DESC;FMTTYPE=text/html:4-7 p.m.&nbsp\; Wymore United Methodist Church\, 10th &amp\; F\, Wymore\, NE.&nbsp\; Serving homemade ice cream\, pie\, and hot beef sandwiches.&nbsp\; Freewill donation.
LOCATION:
UID:e.41.5002
SEQUENCE:3
DTSTAMP:20260424T134504Z
URL:https://business.beatricechamber.com/events/details/annual-ic-cream-social-08-07-2011-5002
END:VEVENT

END:VCALENDAR
