BEGIN:VCALENDAR
VERSION:2.0
PRODID:-//ChamberMaster//Event Calendar 2.0//EN
METHOD:PUBLISH
X-PUBLISHED-TTL:P3D
REFRESH-INTERVAL:P3D
CALSCALE:GREGORIAN
BEGIN:VEVENT
DTSTART;VALUE=DATE:20101106
DTEND;VALUE=DATE:20101107
TRANSP:TRANSPARENT
X-MICROSOFT-CDO-ALLDAYEVENT:TRUE
SUMMARY:Annual Prostate Cancer screening
DESCRIPTION:Annual prostate cancer screening:\n\n\n\n8-10:30 a.m.\, Parkview Conference Center\, 1216 S. Eighth St.\, Beatrice\n\n\n\nFor men ages 45-75\n\n\n\nPSA blood test and physical exam by a urologist.\n\n\n\n$30 charge for PSA test covered by medicare Part B. Appointments necessary. Call 223-2432\, 9 a.m.-1 p.m.\, Nov. 3 or 4.
X-ALT-DESC;FMTTYPE=text/html:<strong><span style="font-size: 14px">Annual prostate cancer screening:</span></strong><br />\n<br />\n8-10:30 a.m.\, Parkview Conference Center\, 1216 S. Eighth St.\, Beatrice<br />\n<br />\nFor men ages 45-75<br />\n<br />\nPSA blood test and physical exam by a urologist.<br />\n<br />\n$30 charge for PSA test covered by medicare Part B. Appointments necessary. Call 223-2432\, 9 a.m.-1 p.m.\, Nov. 3 or 4.
LOCATION:
UID:e.41.2786
SEQUENCE:3
DTSTAMP:20260425T032530Z
URL:https://business.beatricechamber.com/events/details/annual-prostate-cancer-screening-11-06-2010-2786
END:VEVENT

END:VCALENDAR
