BEGIN:VCALENDAR
VERSION:2.0
PRODID:-//ChamberMaster//Event Calendar 2.0//EN
METHOD:PUBLISH
X-PUBLISHED-TTL:P3D
REFRESH-INTERVAL:P3D
CALSCALE:GREGORIAN
BEGIN:VEVENT
DTSTART;VALUE=DATE:20101107
DTEND;VALUE=DATE:20101108
TRANSP:TRANSPARENT
X-MICROSOFT-CDO-ALLDAYEVENT:TRUE
SUMMARY:Annual roast beef dinner
DESCRIPTION:Ellis United Methodist Church annual roast beef dinner:\n\n\n\n11:00 a.m.- 1p.m.\, at the church in Ellis. $7.50\, adults. $2\, children ages five and younger. Cakes\, cookies\, candies and crafts.
X-ALT-DESC;FMTTYPE=text/html:<strong><span style="font-size: 16px">Ellis United Methodist Church annual roast beef dinner</span>:</strong><br />\n<br />\n11:00 a.m.- 1p.m.\, at the church in Ellis. $7.50\, adults. $2\, children ages five and younger. Cakes\, cookies\, candies and crafts.
LOCATION:
UID:e.41.2791
SEQUENCE:3
DTSTAMP:20260425T032434Z
URL:https://business.beatricechamber.com/events/details/annual-roast-beef-dinner-11-07-2010-2791
END:VEVENT

END:VCALENDAR
