BEGIN:VCALENDAR
VERSION:2.0
PRODID:-//ChamberMaster//Event Calendar 2.0//EN
METHOD:PUBLISH
X-PUBLISHED-TTL:P3D
REFRESH-INTERVAL:P3D
CALSCALE:GREGORIAN
BEGIN:VEVENT
DTSTART;VALUE=DATE:20120204
DTEND;VALUE=DATE:20120205
TRANSP:TRANSPARENT
X-MICROSOFT-CDO-ALLDAYEVENT:TRUE
SUMMARY:Annual Shrimp Feed
DESCRIPTION:Annual Shrimp Feed\n\nSaturday\, February 4\n\n5:30 - 8:30 pm\n\nDiller Opera House\n\n\n\nShrimp\, beef fries\, ham\, potatoes\, cole slaw\, and roll.  Tickets:  $15 in advance (available at C&C Processing in Diller)\; $17 at the door
X-ALT-DESC;FMTTYPE=text/html:Annual Shrimp Feed<br />\nSaturday\, February 4<br />\n5:30 - 8:30 pm<br />\nDiller Opera House<br />\n<br />\nShrimp\, beef fries\, ham\, potatoes\, cole slaw\, and roll.&nbsp\; Tickets:&nbsp\; $15 in advance (available at C&amp\;C Processing in Diller)\; $17 at the door
LOCATION:
UID:e.41.5292
SEQUENCE:3
DTSTAMP:20260422T185232Z
URL:https://business.beatricechamber.com/events/details/annual-shrimp-feed-02-04-2012-5292
END:VEVENT

END:VCALENDAR
