BEGIN:VCALENDAR
VERSION:2.0
PRODID:-//ChamberMaster//Event Calendar 2.0//EN
METHOD:PUBLISH
X-PUBLISHED-TTL:P3D
REFRESH-INTERVAL:P3D
CALSCALE:GREGORIAN
BEGIN:VEVENT
DTSTART;VALUE=DATE:20110205
DTEND;VALUE=DATE:20110206
TRANSP:TRANSPARENT
X-MICROSOFT-CDO-ALLDAYEVENT:TRUE
SUMMARY:Annual Shrimp Feed
DESCRIPTION:Annual Shrimp Feed\n\n\n\nSaturday\, February 5\n\n5:30 - 8:30 p.m.\n\nDiller Opera House\n\n\n\nAll-you-can-eat boiled shrimp\, beef fries\, ham\, scalloped potatoes\, cole slaw.\n\n\n\nTickets: $14 in advance (by Feb. 4)\; $17 at the door.  Available at C&C Processing\, Diller\; 402-793-5820\, or from Opera House Members
X-ALT-DESC;FMTTYPE=text/html:Annual Shrimp Feed<br />\n<br />\nSaturday\, February 5<br />\n5:30 - 8:30 p.m.<br />\nDiller Opera House<br />\n<br />\nAll-you-can-eat boiled shrimp\, beef fries\, ham\, scalloped potatoes\, cole slaw.<br />\n<br />\nTickets: $14 in advance (by Feb. 4)\; $17 at the door.&nbsp\; Available at C&amp\;C Processing\, Diller\; 402-793-5820\, or from Opera House Members
LOCATION:
UID:e.41.3292
SEQUENCE:3
DTSTAMP:20260424T225443Z
URL:https://business.beatricechamber.com/events/details/annual-shrimp-feed-02-05-2011-3292
END:VEVENT

END:VCALENDAR
