BEGIN:VCALENDAR
VERSION:2.0
PRODID:-//ChamberMaster//Event Calendar 2.0//EN
METHOD:PUBLISH
X-PUBLISHED-TTL:P3D
REFRESH-INTERVAL:P3D
CALSCALE:GREGORIAN
BEGIN:VEVENT
DTSTART;VALUE=DATE:20101106
DTEND;VALUE=DATE:20101107
TRANSP:TRANSPARENT
X-MICROSOFT-CDO-ALLDAYEVENT:TRUE
SUMMARY:Annual "Six at Six" Dinner
DESCRIPTION:Hopewell United Methodist Church annual  "Six at Six" Dinner:\n\n	\n\n	Beginning at 6 p.m.\, church fellowship hall\, 73131 607 Ave.\, Sterling. Candlelight Windsor loin dinner\, appetizers\, desert bar\; entertainment\; $12.50 per person. Limited seating\; reservations required. Lois\, 402-988-5155\, or Marcy\, 402-520-2497. Entire ticket purchase price to missions.
X-ALT-DESC;FMTTYPE=text/html:<p>\n	<strong><span style="font-size: 16px">Hopewell United Methodist Church annual&nbsp\; &quot\;Six at Six&quot\; Dinner</span>:</strong><br />\n	<br />\n	Beginning at 6 p.m.\, church fellowship hall\, 73131 607 Ave.\, Sterling. Candlelight Windsor loin dinner\, appetizers\, desert bar\; entertainment\; $12.50 per person. Limited seating\; reservations required. Lois\, 402-988-5155\, or Marcy\, 402-520-2497. Entire ticket purchase price to missions.</p>\n
LOCATION:
UID:e.41.2788
SEQUENCE:3
DTSTAMP:20260425T032509Z
URL:https://business.beatricechamber.com/events/details/annual-six-at-six-dinner-11-06-2010-2788
END:VEVENT

END:VCALENDAR
