BEGIN:VCALENDAR
VERSION:2.0
PRODID:-//ChamberMaster//Event Calendar 2.0//EN
METHOD:PUBLISH
X-PUBLISHED-TTL:P3D
REFRESH-INTERVAL:P3D
CALSCALE:GREGORIAN
BEGIN:VEVENT
DTSTART:20110313T160000Z
DTEND:20110313T173000Z
X-MICROSOFT-CDO-ALLDAYEVENT:FALSE
SUMMARY:Annual Soup Dinner
DESCRIPTION:DeWitt Historical Society annual soup dinner.\n\n\n\nLocation: DeWitt Community Building.\n\n\n\nSoups\, hamburgers\, desserts. Freewill offering. Door prizes\; historical displays.
X-ALT-DESC;FMTTYPE=text/html:DeWitt Historical Society annual soup dinner.<br />\n<br />\nLocation: DeWitt Community Building.<br />\n<br />\nSoups\, hamburgers\, desserts. Freewill offering. Door prizes\; historical displays.
LOCATION:
UID:e.41.4222
SEQUENCE:3
DTSTAMP:20260424T211629Z
URL:https://business.beatricechamber.com/events/details/annual-soup-dinner-03-13-2011-4222
END:VEVENT

END:VCALENDAR
