BEGIN:VCALENDAR
VERSION:2.0
PRODID:-//ChamberMaster//Event Calendar 2.0//EN
METHOD:PUBLISH
X-PUBLISHED-TTL:P3D
REFRESH-INTERVAL:P3D
CALSCALE:GREGORIAN
BEGIN:VEVENT
DTSTART:20100307T220000Z
DTEND:20100308T010000Z
X-MICROSOFT-CDO-ALLDAYEVENT:FALSE
SUMMARY:Annual Spaghetti Dinner 3/7/10
DESCRIPTION:St. Joseph's AnnualSpaghetti Dinner Sunday\, March 7\, 20104 p.m. - 7 p.m.Parish Center - 420 N 6th Street Tickets in Advance:Adults: $8Children: $3 (3-12 years)Available at:  Security First Bank and First National Omaha Tickets at the Door:Adults: $9Children: $4 (3-12 years) Carry Out Dinner Available
X-ALT-DESC;FMTTYPE=text/html:<div style="text-align: center"><strong><span style="font-family: Verdana"><span style="font-size: large">St. Joseph's Annual</span></span></strong></div><div style="text-align: center"><span style="font-size: x-large"><strong><span style="font-family: Verdana">Spaghetti Dinner</span></strong></span></div><div>&nbsp\;</div><div style="text-align: center"><span style="font-size: medium">Sunday\, March 7\, 2010</span></div><div style="text-align: center"><span style="font-size: medium">4 p.m. - 7 p.m.</span></div><div style="text-align: center"><span style="font-size: medium">Parish Center - 420 N&nbsp\;6th Street</span></div><div>&nbsp\;</div><div><span style="font-size: small">Tickets in Advance:</span></div><div><span style="font-size: small">Adults: $8</span></div><div><span style="font-size: small">Children: $3 (3-12 years)</span></div><div><span style="font-size: small">Available at: &nbsp\;Security First Bank and First National Omaha</span></div><div>&nbsp\;</div><div><span style="font-size: small">Tickets at the Door:</span></div><div><span style="font-size: small">Adults: $9</span></div><div><span style="font-size: small">Children: $4 (3-12 years)</span></div><div>&nbsp\;</div><div><em><span style="font-size: small">Carry Out Dinner Available</span></em></div>
LOCATION:
UID:e.41.1653
SEQUENCE:3
DTSTAMP:20260425T152942Z
URL:https://business.beatricechamber.com/events/details/annual-spaghetti-dinner-3-7-10-03-07-2010-1653
END:VEVENT

END:VCALENDAR
