BEGIN:VCALENDAR
VERSION:2.0
PRODID:-//ChamberMaster//Event Calendar 2.0//EN
METHOD:PUBLISH
X-PUBLISHED-TTL:P3D
REFRESH-INTERVAL:P3D
CALSCALE:GREGORIAN
BEGIN:VEVENT
DTSTART:20110306T223000Z
DTEND:20110307T013000Z
X-MICROSOFT-CDO-ALLDAYEVENT:FALSE
SUMMARY:Annual Spaghetti Dinner - St. Joseph's
DESCRIPTION:St.Joseph's Annual Spaghetti Dinner\n\n\n\nSunday\, March 6\n\n4:30 - 7:30 p.m.\n\n\n\nParish Center\n\n420 N 6th Street\n\nBeatrice\n\n\n\nAdvance tickets: $9 adults\, $3 children (3-12 years) available at Security First Bank and First National Omaha.\n\nTickets at the door: $10 adults\, $3 children.  Carry-out available.
X-ALT-DESC;FMTTYPE=text/html:St.Joseph&#39\;s Annual Spaghetti Dinner<br />\n<br />\nSunday\, March 6<br />\n4:30 - 7:30 p.m.<br />\n<br />\nParish Center<br />\n420 N 6th Street<br />\nBeatrice<br />\n<br />\nAdvance tickets: $9 adults\, $3 children (3-12 years) available at Security First Bank and First National Omaha.<br />\nTickets at the door: $10 adults\, $3 children.&nbsp\; Carry-out available.
LOCATION:
UID:e.41.4194
SEQUENCE:3
DTSTAMP:20260424T211646Z
URL:https://business.beatricechamber.com/events/details/annual-spaghetti-dinner-st-joseph-s-03-06-2011-4194
END:VEVENT

END:VCALENDAR
