BEGIN:VCALENDAR
VERSION:2.0
PRODID:-//ChamberMaster//Event Calendar 2.0//EN
METHOD:PUBLISH
X-PUBLISHED-TTL:P3D
REFRESH-INTERVAL:P3D
CALSCALE:GREGORIAN
BEGIN:VEVENT
DTSTART;VALUE=DATE:20120506
DTEND;VALUE=DATE:20120507
TRANSP:TRANSPARENT
X-MICROSOFT-CDO-ALLDAYEVENT:TRUE
SUMMARY:Annual Spring Chicken Barbecue
DESCRIPTION:11 a.m.-2 p.m.\, Odell American Legion Club. Cost: $8.50.
X-ALT-DESC;FMTTYPE=text/html:11 a.m.-2 p.m.\, Odell American Legion Club. Cost: $8.50.
LOCATION:
UID:e.41.5494
SEQUENCE:3
DTSTAMP:20260422T142312Z
URL:https://business.beatricechamber.com/events/details/annual-spring-chicken-barbecue-05-06-2012-5494
END:VEVENT

END:VCALENDAR
