BEGIN:VCALENDAR
VERSION:2.0
PRODID:-//ChamberMaster//Event Calendar 2.0//EN
METHOD:PUBLISH
X-PUBLISHED-TTL:P3D
REFRESH-INTERVAL:P3D
CALSCALE:GREGORIAN
BEGIN:VEVENT
DTSTART:20111125T140000Z
DTEND:20111125T220000Z
X-MICROSOFT-CDO-ALLDAYEVENT:FALSE
SUMMARY:Annual Treasure Hunt in Wymore
DESCRIPTION:Annual Wymore Treasure Hunt\n\n	 \n\n	Friday\, November 25\n\n	8 am - 4 pm\n\n	\n\n	During this time period\, participants can pick up Treasure Hunt tickets\, enjoy community coffee and visit the craft show.\n\n	\n\n	Souther Music Boosters will be offering homemade soups and desserts at 5 pm.  This year\, the Blue River Boys will be singing\, along with a piano recital from 5 -7 pm by students of Twila Wise.\n\n	\n\n	5 pm - Town whistle will blow and the streets will come alive with the glow of Christmas lights as Santa and Mrs. Santa arrive at the Welsh Garden.  Carraige rides and Christmas caroling.  7 pm - Santa drawing will be held in Community center.
X-ALT-DESC;FMTTYPE=text/html:<p>\n	Annual Wymore Treasure Hunt<br />\n	&nbsp\;</p>\n<p>\n	Friday\, November 25<br />\n	8 am - 4 pm<br />\n	<br />\n	During this time period\, participants can pick up Treasure Hunt tickets\, enjoy community coffee and visit the craft show.<br />\n	<br />\n	Souther Music Boosters will be offering homemade soups and desserts at&nbsp\;5 pm.&nbsp\; This year\, the Blue River Boys will be singing\, along with a piano recital from 5 -7 pm by students of Twila Wise.<br />\n	<br />\n	5 pm - Town whistle will blow and the streets will come alive with the glow of Christmas lights as Santa and Mrs. Santa arrive at the Welsh Garden.&nbsp\; Carraige rides and Christmas caroling.&nbsp\; 7 pm - Santa drawing will be held in Community center.</p>\n
LOCATION:
UID:e.41.5260
SEQUENCE:3
DTSTAMP:20260424T100023Z
URL:https://business.beatricechamber.com/events/details/annual-treasure-hunt-in-wymore-11-25-2011-5260
END:VEVENT

END:VCALENDAR
