BEGIN:VCALENDAR
VERSION:2.0
PRODID:-//ChamberMaster//Event Calendar 2.0//EN
METHOD:PUBLISH
X-PUBLISHED-TTL:P3D
REFRESH-INTERVAL:P3D
CALSCALE:GREGORIAN
BEGIN:VEVENT
DTSTART:20101117T223000Z
DTEND:20101117T223000Z
X-MICROSOFT-CDO-ALLDAYEVENT:FALSE
SUMMARY:Annual Turkey Supper
DESCRIPTION:Annual Turkey Supper:\n\n\n\nAt St. John's Lutheran Church in Lanham will start at 4:30 p.m. Nov. 17. They will be serving a turkey meal with all the trimmings. Cost of the meal is $7.50 for adults\, $4.00 for children\, and preschool kids are free. Take out service will be available. There will be a drawing for a muti-colored queen size quilt and a $50 Wal-Mart gift card. Tickets are available for $1.00 or 6 tickets for $5.00.
X-ALT-DESC;FMTTYPE=text/html:<strong><span style="font-size: 14px">Annual Turkey Supper:</span></strong><br />\n<br />\nAt St. John&#39\;s Lutheran Church in Lanham will start at 4:30 p.m. Nov. 17. They will be serving a turkey meal with all the trimmings. Cost of the meal is $7.50 for adults\, $4.00 for children\, and preschool kids are free. Take out service will be available. There will be a drawing for a muti-colored queen size quilt and a $50 Wal-Mart gift card. Tickets are available for $1.00 or 6 tickets for $5.00.
LOCATION:
UID:e.41.2820
SEQUENCE:3
DTSTAMP:20260425T032504Z
URL:https://business.beatricechamber.com/events/details/annual-turkey-supper-11-17-2010-2820
END:VEVENT

END:VCALENDAR
