BEGIN:VCALENDAR
VERSION:2.0
PRODID:-//ChamberMaster//Event Calendar 2.0//EN
METHOD:PUBLISH
X-PUBLISHED-TTL:P3D
REFRESH-INTERVAL:P3D
CALSCALE:GREGORIAN
BEGIN:VEVENT
DTSTART:20120830T220000Z
DTEND:20120830T220000Z
X-MICROSOFT-CDO-ALLDAYEVENT:FALSE
SUMMARY:Annual Walk to End Alzheimer's
DESCRIPTION:To sign up to walk or make a donation\, visit www.alz.org/walk. To become a sponsor\, volunteer\, and/or walker\, contact Tammy White 402-223-2311
X-ALT-DESC;FMTTYPE=text/html:To sign up to walk or make a donation\, visit www.alz.org/walk. To become a sponsor\, volunteer\, and/or walker\, contact Tammy White 402-223-2311
LOCATION:Chautauqua Park in Beatrice.
UID:e.41.6614
SEQUENCE:3
DTSTAMP:20260422T100602Z
URL:https://business.beatricechamber.com/events/details/annual-walk-to-end-alzheimer-s-08-30-2012-6614
END:VEVENT

END:VCALENDAR
