BEGIN:VCALENDAR
VERSION:2.0
PRODID:-//ChamberMaster//Event Calendar 2.0//EN
METHOD:PUBLISH
X-PUBLISHED-TTL:P3D
REFRESH-INTERVAL:P3D
CALSCALE:GREGORIAN
BEGIN:VEVENT
DTSTART:20111206T013000Z
DTEND:20111218T220000Z
X-MICROSOFT-CDO-ALLDAYEVENT:FALSE
SUMMARY:Another Contemporary Christmas
DESCRIPTION:Another Contemporary Christmas\n\n	With the St. John Sanctuary Band and Friends\n\n	Friday\, December 16 at 7:30 p.m.\n\n	Sunday\, December 18 at 4:00 p.m.\n\n	\n\n	Admission is free.\n\n	There will be a free-will offering to benefit the Community Food Pantry
X-ALT-DESC;FMTTYPE=text/html:<p>\n	<i>Another Contemporary Christmas<br />\n	With the St. John Sanctuary Band and Friends<br />\n	Friday\, December 16 at 7:30 p.m.<br />\n	Sunday\, December 18 at 4:00 p.m.<br />\n	<br />\n	Admission is free.<br />\n	There will be a free-will offering to benefit the Community Food Pantry</i></p>\n
LOCATION:701 N. 6th Beatrice Ne
UID:e.41.5269
SEQUENCE:3
DTSTAMP:20260424T083052Z
URL:https://business.beatricechamber.com/events/details/another-contemporary-christmas-12-05-2011-5269
END:VEVENT

END:VCALENDAR
