BEGIN:VCALENDAR
VERSION:2.0
PRODID:-//ChamberMaster//Event Calendar 2.0//EN
METHOD:PUBLISH
X-PUBLISHED-TTL:P3D
REFRESH-INTERVAL:P3D
CALSCALE:GREGORIAN
BEGIN:VEVENT
DTSTART:20101218T013000Z
DTEND:20101218T013000Z
X-MICROSOFT-CDO-ALLDAYEVENT:FALSE
SUMMARY:"Another Contemporary Christmas with John Sanctuary Band and Friends"
DESCRIPTION:"Another Contemporary Christmas with John Sanctuary Band and Friends:"\n\n\n\n7:30 p.m.\, concert\, 701 N. 10th St.\, Beatrice. Christmas message\, carols and songs in a variety of styles. Freewill offering to benefit Community Food pantry and Emergency Services.
X-ALT-DESC;FMTTYPE=text/html:<strong><span style="font-size: 16px\;">&quot\;Another Contemporary Christmas with John Sanctuary Band and Friends:&quot\;</span></strong><br />\n<br />\n7:30 p.m.\, concert\, 701 N. 10th St.\, Beatrice. Christmas message\, carols and songs in a variety of styles. Freewill offering to benefit Community Food pantry and Emergency Services.<br />\n
LOCATION:
UID:e.41.2915
SEQUENCE:3
DTSTAMP:20260425T015622Z
URL:https://business.beatricechamber.com/events/details/another-contemporary-christmas-with-john-sanctuary-band-and-friends-12-17-2010-2915
END:VEVENT

END:VCALENDAR
