BEGIN:VCALENDAR
VERSION:2.0
PRODID:-//ChamberMaster//Event Calendar 2.0//EN
METHOD:PUBLISH
X-PUBLISHED-TTL:P3D
REFRESH-INTERVAL:P3D
CALSCALE:GREGORIAN
BEGIN:VEVENT
DTSTART;VALUE=DATE:20100504
DTEND;VALUE=DATE:20100505
TRANSP:TRANSPARENT
X-MICROSOFT-CDO-ALLDAYEVENT:TRUE
SUMMARY:Anytime Fitness Ribbon Cutting 5/4/10
DESCRIPTION:Anytime Fitness5 year anniversary Ribbon Cutting4:30 p.m. 2317 N 6th StreetBeatrice\, NE Come for our Ribbon Cutting\, stay for our Open House!
X-ALT-DESC;FMTTYPE=text/html:<div style="text-align: center"><span style="font-size: medium">Anytime Fitness</span></div><div style="text-align: center"><span style="font-size: medium">5 year anniversary</span></div><div style="text-align: center">&nbsp\;</div><div style="text-align: center"><span style="font-size: medium">Ribbon Cutting</span></div><div style="text-align: center"><span style="font-size: medium">4:30 p.m.</span></div><div style="text-align: center">&nbsp\;</div><div style="text-align: center"><span style="font-size: medium">2317 N 6th Street</span></div><div style="text-align: center"><span style="font-size: medium">Beatrice\, NE</span></div><div style="text-align: center">&nbsp\;</div><div style="text-align: center"><span style="font-size: medium">Come for our Ribbon Cutting\, stay for our Open House!</span></div>
LOCATION:
UID:e.41.1973
SEQUENCE:3
DTSTAMP:20260425T123251Z
URL:https://business.beatricechamber.com/events/details/anytime-fitness-ribbon-cutting-5-4-10-05-04-2010-1973
END:VEVENT

END:VCALENDAR
