BEGIN:VCALENDAR
VERSION:2.0
PRODID:-//ChamberMaster//Event Calendar 2.0//EN
METHOD:PUBLISH
X-PUBLISHED-TTL:P3D
REFRESH-INTERVAL:P3D
CALSCALE:GREGORIAN
BEGIN:VEVENT
DTSTART;VALUE=DATE:20100616
DTEND;VALUE=DATE:20100617
TRANSP:TRANSPARENT
X-MICROSOFT-CDO-ALLDAYEVENT:TRUE
SUMMARY:''Are We There Yet and Lessons Learned Along the Way''
DESCRIPTION:April Whitten\, author of "Are We There Yet and Lessons Learned Along the Way?" will give a multi-media program at the Homestead Education Center 7 p.m. on June 16. The program will be followed with a book signing. This program is a contemporary journal of travel with a wagon train expressed through photography. It conveys a personal impression of such an adventure as well as some of the lessons learned along the way. This book has been endorsed by the Montessori School system and the State of Texas may be endorsing it also.Homestead National Monument of America
X-ALT-DESC;FMTTYPE=text/html:<div><span lang="EN"><p><span style="font-size: small">April Whitten\, author of &quot\;Are We There Yet and Lessons Learned Along the Way?&quot\; will give a multi-media program at the </span></p><p><span style="font-size: small">Homestead Education Center </span></p><p><span style="font-size: small">7 p.m. on June 16. </span></p><p><span style="font-size: small">The program will be followed with a book signing. This program is a contemporary journal of travel with a wagon train expressed through photography. It conveys a personal impression of such an adventure as well as some of the lessons learned along the way. This book has been endorsed by the Montessori School system and the State of Texas may be endorsing it also.</span></p><p><span style="font-size: small">Homestead National Monument of America</span></p></span></div>
LOCATION:
UID:e.41.2023
SEQUENCE:3
DTSTAMP:20260425T105621Z
URL:https://business.beatricechamber.com/events/details/are-we-there-yet-and-lessons-learned-along-the-way-06-16-2010-2023
END:VEVENT

END:VCALENDAR
