BEGIN:VCALENDAR
VERSION:2.0
PRODID:-//ChamberMaster//Event Calendar 2.0//EN
METHOD:PUBLISH
X-PUBLISHED-TTL:P3D
REFRESH-INTERVAL:P3D
CALSCALE:GREGORIAN
BEGIN:VEVENT
DTSTART;VALUE=DATE:20101130
DTEND;VALUE=DATE:20101201
TRANSP:TRANSPARENT
X-MICROSOFT-CDO-ALLDAYEVENT:TRUE
SUMMARY:Area Entrepreneur /Small Biz Resource Forum
DESCRIPTION:Area Entrepreneur /Small Biz Resource Forum \n\n\n\nLearn about micro-business and entrepreneurship development services in your community\, best practices in the field\, current successes and more.  Identify resource connections that can be valuable in assisting your small business clients.  \n\n \n\nDate:  Tuesday\, November 30\, 2010\n\nTime:  Noon - 4:15 PM\n\nLocation:  Classics at the Beatrice Country Club \n\n1301 Oak\, Beatrice\, Nebraska\n\n\n\n Lunch speaker - Shawn Kaskie\, Director of Center for Rural  Research and Development at UNK will present on Market Research and Survey Services for businesses.  The forum will continue with an opportunity to hear industry experts talk about Business Financing Resources\, Social Media Marketing\, with participants involved in roundtable discussions focusing on coordinated support for BusinessDevelopment in the area.    \n\n     \n\n$15 registration fee payable to NEF\, $10 for Beatrice Chamber members. Register by Nov. 23 via e-mail to  janeo@nebbiz.org or call 402.685.5500 or 402.645.3096.  \n\n \n\nHosted by: Nebraska Enterprise Fund & Beatrice Area Chamber of Commerce
X-ALT-DESC;FMTTYPE=text/html:<span style="font-weight: bold\; language: en"><span style="font-family: arial rounded mt bold"><span style="font-size: small">Area Entrepreneur /Small Biz Resource Forum&nbsp\;</span></span></span><br />\n<br />\n<span style="font-style: italic\; language: en"><span style="font-size: medium"><span style="font-size: x-small"><span style="font-style: italic\; font-weight: bold\; language: en"><span style="font-family: arial">Learn about micro-business and entrepreneurship development services in your&nbsp\;community\, best practices in the field\, current successes and more.&nbsp\;&nbsp\;Identify resource connections that can be valuable in assisting&nbsp\;your small business clients.&nbsp\;&nbsp\;</span></span></span></span></span><br />\n&nbsp\;<br />\n<span style="font-style: italic\; language: en"><span style="font-weight: bold\; language: en"><span style="font-family: arial"><span style="font-size: small">Date:&nbsp\; Tuesday\, November 30\, 2010</span></span></span></span><br />\n<span style="font-style: italic\; language: en"><span style="font-weight: bold\; language: en"><span style="font-family: arial"><span style="font-size: small">Time:&nbsp\; Noon - 4:15 PM</span></span></span></span><br />\n<span style="font-style: italic\; language: en"><span style="font-weight: bold\; language: en"><span style="font-family: arial"><span style="font-size: small">Location:&nbsp\; Classics at the Beatrice Country Club </span></span></span></span><br />\n<span style="font-style: italic\; language: en"><span style="font-weight: bold\; language: en"><span style="font-size: 12pt"><span style="font-family: arial"><span style="font-size: small">1301 Oak\, </span></span></span></span></span><span style="font-weight: bold\; language: en"><span style="font-family: arial"><span style="font-size: small">Beatrice\, Nebraska</span></span></span><br />\n<br />\n<span style="font-style: italic\; language: en">&nbsp\;<span style="language: en"><span style="font-size: 12pt"><span style="font-family: arial"><span style="font-size: x-small">Lunch speaker - Shawn Kaskie\, Director of Center for Rural&nbsp\; Research and&nbsp\;Development at UNK will present on Market Research and Survey Services for&nbsp\;businesses.&nbsp\; The forum will continue with an opportunity to hear industry experts talk about Business Financing Resources\, Social Media Marketing\, with participants involved in roundtable discussions focusing on coordinated support for BusinessDevelopment in the area.</span></span>&nbsp\;&nbsp\;&nbsp\; </span></span></span><br />\n&nbsp\;&nbsp\;&nbsp\;&nbsp\;&nbsp\;<br />\n<span style="font-style: italic\; language: en"><span style="font-size: x-small"><span style="language: en"><span style="font-family: arial">$15 registration fee payable to NEF\, $10 for Beatrice Chamber members. Register by Nov. 23 via e-mail to&nbsp\; </span></span><span style="font-weight: bold\; language: en"><span style="color: blue"><span style="font-family: arial">janeo@nebbiz.org </span></span></span><span style="language: en"><span style="font-family: arial">or call 402.685.5500 or 402.645.3096.&nbsp\;&nbsp\;</span></span></span></span><br />\n&nbsp\;<br />\n<span style="font-size: x-small"><span style="font-style: italic\; language: en"><span style="font-family: arial">Hosted by:&nbsp\;Nebraska Enterprise Fund &amp\;&nbsp\;</span></span><span style="font-style: italic\; language: en"><span style="font-family: arial">Beatrice Area Chamber of Commerce</span></span></span>
LOCATION:
UID:e.41.2763
SEQUENCE:3
DTSTAMP:20260425T032906Z
URL:https://business.beatricechamber.com/events/details/area-entrepreneur-small-biz-resource-forum-11-30-2010-2763
END:VEVENT

END:VCALENDAR
