BEGIN:VCALENDAR
VERSION:2.0
PRODID:-//ChamberMaster//Event Calendar 2.0//EN
METHOD:PUBLISH
X-PUBLISHED-TTL:P3D
REFRESH-INTERVAL:P3D
CALSCALE:GREGORIAN
BEGIN:VEVENT
DTSTART:20090918T150000Z
DTEND:20090919T210000Z
X-MICROSOFT-CDO-ALLDAYEVENT:FALSE
SUMMARY:Art Exhibit at Creative Arts Gallery
DESCRIPTION:Creative Arts Gallery presents featured guest artists: Wayne Bower - Woodturner from Marysville\, KSPJ Copenhaver - Feather art from Nebraska City Jerry Meyer - Native American Indian flute music Join the fun & refreshments on Friday and Saturday (and trading cards!)September 18 & 19thFriday 5-8pmSaturday 10am-4pm Also on display new work by our coop and associative artists:Erna Beach\, Deb Monfelt\, Eva Bartlett\, Marilynn Yurka\, Rose Shaffer\, Della Siems and many others! Questions?  Call Rose 228-0426\, Erna 520-2811\, or Deb 239-6768
X-ALT-DESC;FMTTYPE=text/html:<div><strong>Creative Arts Gallery presents featured guest artists:</strong></div><div>&nbsp\;</div><div>Wayne Bower - Woodturner from Marysville\, KS</div><div>PJ&nbsp\;Copenhaver - Feather art from Nebraska City</div><div>&nbsp\;</div><div>Jerry Meyer - Native American Indian flute music</div><div>&nbsp\;</div><div>Join the fun &amp\; refreshments on Friday and Saturday (and trading cards!)</div><div>September 18 &amp\;&nbsp\;19th</div><div>Friday 5-8pm</div><div>Saturday 10am-4pm</div><div>&nbsp\;</div><div>Also on display new work by our coop and associative artists:</div><div>Erna Beach\, Deb Monfelt\, Eva Bartlett\, Marilynn Yurka\, Rose Shaffer\, Della Siems and many others!</div><div>&nbsp\;</div><div>Questions?&nbsp\; Call Rose 228-0426\, Erna 520-2811\, or Deb 239-6768</div><div>&nbsp\;</div>
LOCATION:
UID:e.41.1427
SEQUENCE:3
DTSTAMP:20260425T233433Z
URL:https://business.beatricechamber.com/events/details/art-exhibit-at-creative-arts-gallery-09-18-2009-1427
END:VEVENT

END:VCALENDAR
