BEGIN:VCALENDAR
VERSION:2.0
PRODID:-//ChamberMaster//Event Calendar 2.0//EN
METHOD:PUBLISH
X-PUBLISHED-TTL:P3D
REFRESH-INTERVAL:P3D
CALSCALE:GREGORIAN
BEGIN:VEVENT
DTSTART:20120729T133000Z
DTEND:20120804T230000Z
X-MICROSOFT-CDO-ALLDAYEVENT:FALSE
SUMMARY:Art in the Park Week begins at Homestead Monument
DESCRIPTION:Homestead National Monument of America announced a line-up of talented artists for this year's Art in the Park Week\, July 29- August 4.\n\n\n\nThroughout the week\, artists will present at the Education Center from 10 a.m. to 4 p.m.\n\n\n\nArt media will include china painting\, watercolor painting\, drawing\, rag rug braiding\, quilting\, sock and loom weaving\, and Celtic rush weaving.\n\n\n\nVisitors will be able to watch the artists as they do their craft in teh Education Center's multi-purpose room and ask questions and learn about their craft and background.\n\n\n\nAlso on August 4\, members of Teammates from Beatrice will partner with the monument to bring high school youth with their mentors to paint and decorate chairs at the Education Center.\n\n\n\nHomestead National Monument of America is located four miles west of Beatrice. Hours of operation are 8:30 a.m.- 6 p.m. seven days a week.
X-ALT-DESC;FMTTYPE=text/html:Homestead National Monument of America announced a line-up of talented artists for this year&#39\;s Art in the Park Week\, July 29- August 4.<br />\n<br />\nThroughout the week\, artists will present at the Education Center from 10 a.m. to 4 p.m.<br />\n<br />\nArt media will include china painting\, watercolor painting\, drawing\, rag rug braiding\, quilting\, sock and loom weaving\, and Celtic rush weaving.<br />\n<br />\nVisitors will be able to watch the artists as they do their craft in teh Education Center&#39\;s multi-purpose room and ask questions and learn about their craft and background.<br />\n<br />\nAlso on August 4\, members of Teammates from Beatrice will partner with the monument to bring high school youth with their mentors to paint and decorate chairs at the Education Center.<br />\n<br />\nHomestead National Monument of America is located four miles west of Beatrice. Hours of operation are 8:30 a.m.- 6 p.m. seven days a week.<br />\n<br />\n
LOCATION:
UID:e.41.6330
SEQUENCE:3
DTSTAMP:20260422T101018Z
URL:https://business.beatricechamber.com/events/details/art-in-the-park-week-begins-at-homestead-monument-07-29-2012-6330
END:VEVENT

END:VCALENDAR
