BEGIN:VCALENDAR
VERSION:2.0
PRODID:-//ChamberMaster//Event Calendar 2.0//EN
METHOD:PUBLISH
X-PUBLISHED-TTL:P3D
REFRESH-INTERVAL:P3D
CALSCALE:GREGORIAN
BEGIN:VEVENT
DTSTART;VALUE=DATE:20110910
DTEND;VALUE=DATE:20110911
TRANSP:TRANSPARENT
X-MICROSOFT-CDO-ALLDAYEVENT:TRUE
SUMMARY:Artist-in-Residence Joseph Carl Kerkman
DESCRIPTION:Artist-in-Residence Joseph Carl Kerkman\n\nHomestead National Monument of America Education Center\n\n\n\nSaturday\, September 10\, 2011\n\n2 pm\n\n\n\n"Preserving and Repairing Your Family's Photographic History\," methods to safeguard and repair a family's photographic legacy.  Website:  http://www.nps.gov/home/supportyourpark/artist-in-residence-program.htm or contact the program's coordinator Allison Alley at Allison_Alley@nps.gov or 402-223-1719.
X-ALT-DESC;FMTTYPE=text/html:Artist-in-Residence Joseph Carl Kerkman<br />\nHomestead National Monument of America Education Center<br />\n<br />\nSaturday\, September 10\, 2011<br />\n2 pm<br />\n<br />\n&quot\;Preserving and Repairing Your Family&#39\;s Photographic History\,&quot\; methods to safeguard and repair a family&#39\;s photographic legacy.&nbsp\; Website:&nbsp\; <a href="http://www.nps.gov/home/supportyourpark/artist-in-residence-program.htm">http://www.nps.gov/home/supportyourpark/artist-in-residence-program.htm</a> or contact the program&#39\;s coordinator Allison Alley at <a href="mailto:Allison_Alley@nps.gov">Allison_Alley@nps.gov</a> or 402-223-1719.
LOCATION:
UID:e.41.5098
SEQUENCE:3
DTSTAMP:20260424T123251Z
URL:https://business.beatricechamber.com/events/details/artist-in-residence-joseph-carl-kerkman-09-10-2011-5098
END:VEVENT

END:VCALENDAR
