BEGIN:VCALENDAR
VERSION:2.0
PRODID:-//ChamberMaster//Event Calendar 2.0//EN
METHOD:PUBLISH
X-PUBLISHED-TTL:P3D
REFRESH-INTERVAL:P3D
CALSCALE:GREGORIAN
BEGIN:VEVENT
DTSTART:20090902T170000Z
DTEND:20090902T180000Z
X-MICROSOFT-CDO-ALLDAYEVENT:FALSE
SUMMARY:Arts in the Park Committee Meeting
DESCRIPTION:
X-ALT-DESC;FMTTYPE=text/html:
LOCATION:
UID:e.41.1423
SEQUENCE:3
DTSTAMP:20260425T234209Z
URL:https://business.beatricechamber.com/events/details/arts-in-the-park-committee-meeting-09-02-2009-1423
END:VEVENT

END:VCALENDAR
