BEGIN:VCALENDAR
VERSION:2.0
PRODID:-//ChamberMaster//Event Calendar 2.0//EN
METHOD:PUBLISH
X-PUBLISHED-TTL:P3D
REFRESH-INTERVAL:P3D
CALSCALE:GREGORIAN
BEGIN:VEVENT
DTSTART:20101204T160000Z
DTEND:20101204T180000Z
X-MICROSOFT-CDO-ALLDAYEVENT:FALSE
SUMMARY:AseraCare Holiday Grief Support Workshop
DESCRIPTION:AseraCare Hospice is offering a Holiday rief Support Workshop for adults who have experienced the death of a loved one. The workshop will be held Saturday\, Dec. 4\, from 10 a.m.- noon at AseraCare Hospice\, 200 N. 24th St.\, Suite A\, Beatrice.\n\n\n\nThere is no fee for the program\, but registration is required. To register call 877-858-5319.
X-ALT-DESC;FMTTYPE=text/html:AseraCare Hospice is offering a Holiday rief Support Workshop for adults who have experienced the death of a loved one. The workshop will be held Saturday\, Dec. 4\, from 10 a.m.- noon at AseraCare Hospice\, 200 N. 24th St.\, Suite A\, Beatrice.<br />\n<br />\nThere is no fee for the program\, but registration is required. To register call 877-858-5319.&nbsp\;
LOCATION:
UID:e.41.2842
SEQUENCE:3
DTSTAMP:20260425T014108Z
URL:https://business.beatricechamber.com/events/details/aseracare-holiday-grief-support-workshop-12-04-2010-2842
END:VEVENT

END:VCALENDAR
