BEGIN:VCALENDAR
VERSION:2.0
PRODID:-//ChamberMaster//Event Calendar 2.0//EN
METHOD:PUBLISH
X-PUBLISHED-TTL:P3D
REFRESH-INTERVAL:P3D
CALSCALE:GREGORIAN
BEGIN:VEVENT
DTSTART:20100220T180000Z
DTEND:20100220T230000Z
X-MICROSOFT-CDO-ALLDAYEVENT:FALSE
SUMMARY:AseraCare Hospice Volunteer Training
DESCRIPTION:AseraCare Hospice will be holding trainings for new hospice volunteers Feb. 20th and Feb. 27th from noon to 5 p.m. Both sessions are required but seperate trainings can be held to accomodate schedules.
X-ALT-DESC;FMTTYPE=text/html:AseraCare Hospice will be holding trainings for new hospice volunteers Feb. 20th and Feb. 27th from noon to 5 p.m. Both sessions are required but seperate trainings can be held to accomodate schedules. 
LOCATION:200 N 24th Street\, Beatrice
UID:e.41.1547
SEQUENCE:3
DTSTAMP:20260425T165419Z
URL:https://business.beatricechamber.com/events/details/aseracare-hospice-volunteer-training-02-20-2010-1547
END:VEVENT

END:VCALENDAR
