BEGIN:VCALENDAR
VERSION:2.0
PRODID:-//ChamberMaster//Event Calendar 2.0//EN
METHOD:PUBLISH
X-PUBLISHED-TTL:P3D
REFRESH-INTERVAL:P3D
CALSCALE:GREGORIAN
BEGIN:VEVENT
DTSTART:20100227T180000Z
DTEND:20100227T230000Z
X-MICROSOFT-CDO-ALLDAYEVENT:FALSE
SUMMARY:AseraCare Hospice Volunteer Training
DESCRIPTION:AseraCare Hospice second training session for new hospice volunteers.
X-ALT-DESC;FMTTYPE=text/html:AseraCare Hospice second training session for new hospice volunteers.
LOCATION:200 N 24th Street\, Beatrice
UID:e.41.1548
SEQUENCE:3
DTSTAMP:20260425T165419Z
URL:https://business.beatricechamber.com/events/details/aseracare-hospice-volunteer-training-02-27-2010-1548
END:VEVENT

END:VCALENDAR
