BEGIN:VCALENDAR
VERSION:2.0
PRODID:-//ChamberMaster//Event Calendar 2.0//EN
METHOD:PUBLISH
X-PUBLISHED-TTL:P3D
REFRESH-INTERVAL:P3D
CALSCALE:GREGORIAN
BEGIN:VEVENT
DTSTART:20090804T000000Z
DTEND:20090804T020000Z
X-MICROSOFT-CDO-ALLDAYEVENT:FALSE
SUMMARY:Auditions: ''Appetizer Series''
DESCRIPTION:Readers Theatre Auditions Monday\, Aug. 3 Auditions for the first two show in the "Appetizers" series of readers theatre productions are Monday\, Aug. 3 starting at 7 p.m.  Those auditioning will be asked to read from the scripts.  We will be auditioning "True West" and "Half Married".\n \n"True West" requires a cast of 3 men and 1 woman.\nPerformance Sept. 17\n \n"Half Married" requires a cast of 2 men and 2 women\nPerformance Nov. 5\n \n"Appetizers" productions are presented with minimal staging and the actors perform with scripts in hand\, so you don't have to memorize anything.  There are only two rehearsals\, so there is not a huge time commitment either.  It's a great way for someone to get involved for the first time\, or for those with a busy schedule to do a little acting without putting their lives on hold.\n \nClick here for more information about the auditions for these two shows.\n \nAuditions for the final two shows in the series "Acts of God" and "BitterSweet Chocolates" will be held on Dec. 14
X-ALT-DESC;FMTTYPE=text/html:<div><table id="content_LETTER.BLOCK23" hidefocus="hidefocus" tabindex="0" cellspacing="0" cellpadding="5" width="100%" border="0" aria-posinset="0" aria-setsize="0" aria-level="0" style="margin-bottom: 10px"><tbody><tr><td align="left" width="99%" style="font-size: 14pt\; color: #1f4858\; font-family: Arial\,Helvetica\,sans-serif"><font face="Arial\,Helvetica\,sans-serif" color="#1f4858" size="4" style="font-size: 14pt\; color: #1f4858\; font-family: Arial\,Helvetica\,sans-serif">Readers Theatre Auditions <div style="font-size: 10pt\; color: #d78519\; font-family: Arial\,Helvetica\,sans-serif" align="left"><font face="Arial\,Helvetica\,sans-serif" color="#d78519" size="2" style="font-size: 10pt\; color: #d78519\; font-family: Arial\,Helvetica\,sans-serif"><b>Monday\, Aug. 3</b></font></div></font></td></tr><tr><td align="left" style="font-size: 10pt\; color: #748b84\; font-family: Arial\,Helvetica\,sans-serif"><font face="Arial\,Helvetica\,sans-serif" color="#748b84" size="2" style="font-size: 10pt\; color: #748b84\; font-family: Arial\,Helvetica\,sans-serif">&nbsp\;Auditions for the first two show in the &quot\;Appetizers&quot\; series of readers theatre productions are Monday\, Aug. 3 starting at 7 p.m.&nbsp\; Those auditioning will be asked to read from the scripts.&nbsp\; We will be auditioning &quot\;True West&quot\; and &quot\;Half Married&quot\;.<br />&nbsp\;<br />&quot\;True West&quot\; requires a cast of 3 men and 1 woman.<br />Performance Sept. 17<br />&nbsp\;<br />&quot\;Half Married&quot\; requires a cast of 2 men and 2 women<br />Performance Nov. 5<br />&nbsp\;<br />&quot\;Appetizers&quot\; productions are presented with minimal staging and the actors perform with scripts in hand\, so you don't have to memorize anything.&nbsp\; There are only two rehearsals\, so there is not a huge time commitment either.&nbsp\; It's a great way for someone to get involved for the first time\, or for those with a busy schedule to do a little acting without putting their lives on hold.<br />&nbsp\;<br /><a title="http://rs6.net/tn.jsp?et=1102654379317&amp\;s=459&amp\;e=0018AoTMNTq_fDOVOxsrzvn1NNExzw_pP6OiWoupO5auhbhGgeDMOEYG5Qrs9MPk8qX7pEbYic1hcjp_D4i0yRcaieUN35WNRD7oG38EbOpO4VHz-pktKqpzehQ7Uz8vCj-vnLQxanYgUa2kUGl1PiEARyWebiSgIbz2qohLR5P1Q1iICjxWzwL9A==" href="http://rs6.net/tn.jsp?et=1102654379317&amp\;s=459&amp\;e=0018AoTMNTq_fDOVOxsrzvn1NNExzw_pP6OiWoupO5auhbhGgeDMOEYG5Qrs9MPk8qX7pEbYic1hcjp_D4i0yRcaieUN35WNRD7oG38EbOpO4VHz-pktKqpzehQ7Uz8vCj-vnLQxanYgUa2kUGl1PiEARyWebiSgIbz2qohLR5P1Q1iICjxWzwL9A==" target="_blank" track="on" linktype="link">Click here for more information about the auditions for these two shows</a>.<br />&nbsp\;<br />Auditions for the final two shows in the series &quot\;Acts of God&quot\; and &quot\;BitterSweet Chocolates&quot\; will be held on Dec. 14</font></td><td>&nbsp\;</td></tr></tbody></table></div>
LOCATION:
UID:e.41.1344
SEQUENCE:3
DTSTAMP:20260426T011548Z
URL:https://business.beatricechamber.com/events/details/auditions-appetizer-series-08-03-2009-1344
END:VEVENT

END:VCALENDAR
