BEGIN:VCALENDAR
VERSION:2.0
PRODID:-//ChamberMaster//Event Calendar 2.0//EN
METHOD:PUBLISH
X-PUBLISHED-TTL:P3D
REFRESH-INTERVAL:P3D
CALSCALE:GREGORIAN
BEGIN:VEVENT
DTSTART:20091215T010000Z
DTEND:20091215T030000Z
X-MICROSOFT-CDO-ALLDAYEVENT:FALSE
SUMMARY:Auditions: Appetizers - ''Acts of God & Bittersweet Chocolates''
DESCRIPTION:Community Players Theatre Those auditioning will be asked to read from the script.  Please come prepared to list all schedule conflicts through the run of the show.  No appointments needed.
X-ALT-DESC;FMTTYPE=text/html:<div>Community Players Theatre</div><div>&nbsp\;</div><div>Those auditioning will be asked to read from the script.&nbsp\; Please come prepared to list all schedule conflicts through the run of the show.&nbsp\;</div><div>&nbsp\;</div><div>No appointments needed.</div>
LOCATION:
UID:e.41.1539
SEQUENCE:3
DTSTAMP:20260425T194449Z
URL:https://business.beatricechamber.com/events/details/auditions-appetizers-acts-of-god-bittersweet-chocolates-12-14-2009-1539
END:VEVENT

END:VCALENDAR
