BEGIN:VCALENDAR
VERSION:2.0
PRODID:-//ChamberMaster//Event Calendar 2.0//EN
METHOD:PUBLISH
X-PUBLISHED-TTL:P3D
REFRESH-INTERVAL:P3D
CALSCALE:GREGORIAN
BEGIN:VEVENT
DTSTART:20101215T010000Z
DTEND:20101215T010000Z
X-MICROSOFT-CDO-ALLDAYEVENT:FALSE
SUMMARY:Auditions for "Annie Get Your Gun"
DESCRIPTION:Auditions for Irving Berlin classic\, "Annie Get Your Gun:"\n\n\n\n7 p.m.\, Players Theater\, 412 Ella St.\, Beatrice. Those auditioning will be asked to sing no more than one minute of a song of their choice and read from the script. No appointments required. www.beatricecommunityplayers.com\n\n\n\n402-228-1801.
X-ALT-DESC;FMTTYPE=text/html:<strong><span style="font-size: 14px">Auditions for Irving Berlin classic\, &quot\;Annie Get Your Gun:&quot\;</span></strong><br />\n<br />\n7 p.m.\, Players Theater\, 412 Ella St.\, Beatrice. Those auditioning will be asked to sing no more than one minute of a song of their choice and read from the script. No appointments required. www.beatricecommunityplayers.com<br />\n<br />\n402-228-1801.<br />\n
LOCATION:
UID:e.41.2914
SEQUENCE:3
DTSTAMP:20260425T014257Z
URL:https://business.beatricechamber.com/events/details/auditions-for-annie-get-your-gun-12-14-2010-2914
END:VEVENT

END:VCALENDAR
