BEGIN:VCALENDAR
VERSION:2.0
PRODID:-//ChamberMaster//Event Calendar 2.0//EN
METHOD:PUBLISH
X-PUBLISHED-TTL:P3D
REFRESH-INTERVAL:P3D
CALSCALE:GREGORIAN
BEGIN:VEVENT
DTSTART;VALUE=DATE:20110418
DTEND;VALUE=DATE:20110420
TRANSP:TRANSPARENT
X-MICROSOFT-CDO-ALLDAYEVENT:TRUE
SUMMARY:Auditions for Community Players "Leading Ladies"
DESCRIPTION:Beatrice Community Players will hold auditions for the summer farce\,\n\n"Leading Ladies"\n\n\n\nMonday & Tuesday\, April 18 & 19\n\n7 pm\n\n\n\nAuditions will be held at the Theater\, 412 Ella St.  The show requires five men and three women.  Those auditioning will be asked to read from the script.  Performances are June 3-5 and 10-12.\n\n\n\nFor a complete description of the characters\, go to www.beatricecommunityplayers.com.  For more information about the show\, call 402-228-1801.
X-ALT-DESC;FMTTYPE=text/html:Beatrice Community Players will hold auditions for the summer farce\,<br />\n&quot\;Leading Ladies&quot\;<br />\n<br />\nMonday &amp\; Tuesday\, April 18 &amp\; 19<br />\n7 pm<br />\n<br />\nAuditions will be held at the Theater\, 412 Ella St.&nbsp\; The show requires five men and three women.&nbsp\; Those auditioning will be asked to read from the script.&nbsp\; Performances are June 3-5 and 10-12.<br />\n<br />\nFor a complete description of the characters\, go to <a href="http://www.beatricecommunityplayers.com">www.beatricecommunityplayers.com</a>.&nbsp\; For more information about the show\, call 402-228-1801.
LOCATION:
UID:e.41.4579
SEQUENCE:3
DTSTAMP:20260424T195956Z
URL:https://business.beatricechamber.com/events/details/auditions-for-community-players-leading-ladies-04-18-2011-4579
END:VEVENT

END:VCALENDAR
