BEGIN:VCALENDAR
VERSION:2.0
PRODID:-//ChamberMaster//Event Calendar 2.0//EN
METHOD:PUBLISH
X-PUBLISHED-TTL:P3D
REFRESH-INTERVAL:P3D
CALSCALE:GREGORIAN
BEGIN:VEVENT
DTSTART;VALUE=DATE:20101221
DTEND;VALUE=DATE:20101222
TRANSP:TRANSPARENT
X-MICROSOFT-CDO-ALLDAYEVENT:TRUE
SUMMARY:Auditions for "The Why."
DESCRIPTION:Auditions for "The Why."\n\n\n\nTuesday\, December 21\n\n7 p.m.\n\n\n\nCP Appetizers readers' theater series\, Community Players Theatre\, 412 Ella St.\, Beatrice\n\n\n\nThree men\; two women\; high school age.  Show will be directed by Tri County School Senior\, Curtis Reynolds.\n\n\n\n228-1801 www.beatricecommunityplayers.com
X-ALT-DESC;FMTTYPE=text/html:Auditions for &quot\;The Why.&quot\;<br />\n<br />\nTuesday\, December 21<br />\n7 p.m.<br />\n<br />\nCP Appetizers readers&#39\; theater series\, Community Players Theatre\, 412 Ella St.\, Beatrice<br />\n<br />\nThree men\; two women\; high school age.&nbsp\; Show will be directed by Tri County School Senior\, Curtis Reynolds.<br />\n<br />\n228-1801 www.beatricecommunityplayers.com<br />\n
LOCATION:
UID:e.41.2928
SEQUENCE:3
DTSTAMP:20260425T014007Z
URL:https://business.beatricechamber.com/events/details/auditions-for-the-why-12-21-2010-2928
END:VEVENT

END:VCALENDAR
