BEGIN:VCALENDAR
VERSION:2.0
PRODID:-//ChamberMaster//Event Calendar 2.0//EN
METHOD:PUBLISH
X-PUBLISHED-TTL:P3D
REFRESH-INTERVAL:P3D
CALSCALE:GREGORIAN
BEGIN:VEVENT
DTSTART:20091020T000000Z
DTEND:20091021T020000Z
X-MICROSOFT-CDO-ALLDAYEVENT:FALSE
SUMMARY:Auditions: Yes Virginia There is A Santa Claus
DESCRIPTION:Community Players Theatre Those auditioning will be asked to read from the script.  Please come prepared to list all schedule conflicts through the run of the show.  No appointments needed.
X-ALT-DESC;FMTTYPE=text/html:<div>Community Players Theatre</div><div>&nbsp\;</div><div>Those auditioning will be asked to read from the script.&nbsp\; Please come prepared to list all schedule conflicts through the run of the show.&nbsp\;</div><div>&nbsp\;</div><div>No appointments needed.</div>
LOCATION:
UID:e.41.1310
SEQUENCE:3
DTSTAMP:20260425T222440Z
URL:https://business.beatricechamber.com/events/details/auditions-yes-virginia-there-is-a-santa-claus-10-19-2009-1310
END:VEVENT

END:VCALENDAR
