BEGIN:VCALENDAR
VERSION:2.0
PRODID:-//ChamberMaster//Event Calendar 2.0//EN
METHOD:PUBLISH
X-PUBLISHED-TTL:P3D
REFRESH-INTERVAL:P3D
CALSCALE:GREGORIAN
BEGIN:VEVENT
DTSTART;VALUE=DATE:20100228
DTEND;VALUE=DATE:20100301
TRANSP:TRANSPARENT
X-MICROSOFT-CDO-ALLDAYEVENT:TRUE
SUMMARY:Author Jim Reisdorff at Homestead National Monument
DESCRIPTION:Homestead National Monument of America will host: Publisher and Author Jim Reisdorff for a program and book signing Sunday\, February 28\, 20107 p.m.Education Center For more information\, visit Homestead's Website:  www.nps.gov/home or call 402-223-3514
X-ALT-DESC;FMTTYPE=text/html:<div>Homestead National Monument of America will host:</div><div>&nbsp\;</div><div>Publisher and Author Jim Reisdorff</div><div>&nbsp\;</div><div>for a program and book signing</div><div>&nbsp\;</div><div>Sunday\, February 28\, 2010</div><div>7 p.m.</div><div>Education Center</div><div>&nbsp\;</div><div>For more information\, visit Homestead's Website:&nbsp\; <a href="http://www.nps.gov/home">www.nps.gov/home</a> or call 402-223-3514</div>
LOCATION:
UID:e.41.1648
SEQUENCE:3
DTSTAMP:20260425T165849Z
URL:https://business.beatricechamber.com/events/details/author-jim-reisdorff-at-homestead-national-monument-02-28-2010-1648
END:VEVENT

END:VCALENDAR
