BEGIN:VCALENDAR
VERSION:2.0
PRODID:-//ChamberMaster//Event Calendar 2.0//EN
METHOD:PUBLISH
X-PUBLISHED-TTL:P3D
REFRESH-INTERVAL:P3D
CALSCALE:GREGORIAN
BEGIN:VEVENT
DTSTART:20090623T150000Z
DTEND:20090623T160000Z
X-MICROSOFT-CDO-ALLDAYEVENT:FALSE
SUMMARY:Avoid Fraud and Identity Theft Seminar at Homestead House
DESCRIPTION:Identity theft is a serious crime and approximately 9 million Americans fall victim each year. It occurs when your personal information is stolen and used without your knowledge to commit fraud or other crimes. Verdella Vetrovsky from Security First Bank will share information on how to avoid identity theft and what to do if your identity is stolen.
X-ALT-DESC;FMTTYPE=text/html:Identity theft is a serious crime and approximately 9 million Americans fall victim each year. It occurs when your personal information is stolen and used without your knowledge to commit fraud or other crimes. Verdella Vetrovsky from Security First Bank will share information on how to avoid identity theft and what to do if your identity is stolen.
LOCATION:Homestead House "A Senior Living Community"2300 Lincoln St. Beatrice\, NE 68310 402-223-3287
UID:e.41.1242
SEQUENCE:3
DTSTAMP:20260426T043013Z
URL:https://business.beatricechamber.com/events/details/avoid-fraud-and-identity-theft-seminar-at-homestead-house-06-23-2009-1242
END:VEVENT

END:VCALENDAR
