BEGIN:VCALENDAR
VERSION:2.0
PRODID:-//ChamberMaster//Event Calendar 2.0//EN
METHOD:PUBLISH
X-PUBLISHED-TTL:P3D
REFRESH-INTERVAL:P3D
CALSCALE:GREGORIAN
BEGIN:VEVENT
DTSTART;VALUE=DATE:20111011
DTEND;VALUE=DATE:20111012
TRANSP:TRANSPARENT
X-MICROSOFT-CDO-ALLDAYEVENT:TRUE
SUMMARY:Award-Winning Author at Beatrice Public Library
DESCRIPTION:Award-winning author at Beatrice Public Library\n\n"Mail-Order Kid: An Orphan Train Rider's Story\," the biography of Teresa Martin\, one of many children relocated by East Coast orphanages from 1854-1929 in the orphan train movement\, as told by author Marilyn June Coffey.\n\n\n\nOrphan train pictures\, short talk dramatic reading\; question-and-answer session.\n\n\n\nTuesday\, October 11\n\n7:30 pm\n\n\n\nBeatrice Public Library\, 100 N 16th Street\n\nwww.Mail-OrderKid.com
X-ALT-DESC;FMTTYPE=text/html:<strong>Award-winning author at Beatrice Public Library<br />\n&quot\;Mail-Order Kid: An Orphan Train Rider&#39\;s Story\,&quot\;</strong> the biography of Teresa Martin\, one of many children relocated by East Coast orphanages from 1854-1929 in the orphan train movement\, as told by author Marilyn June Coffey.<br />\n<br />\nOrphan train pictures\, short talk dramatic reading\; question-and-answer session.<br />\n<br />\nTuesday\, October 11<br />\n7:30 pm<br />\n<br />\nBeatrice Public Library\, 100 N 16th Street<br />\n<a href="http://www.Mail-OrderKid.com">www.Mail-OrderKid.com</a>
LOCATION:
UID:e.41.5179
SEQUENCE:3
DTSTAMP:20260424T111402Z
URL:https://business.beatricechamber.com/events/details/award-winning-author-at-beatrice-public-library-10-11-2011-5179
END:VEVENT

END:VCALENDAR
