BEGIN:VCALENDAR
VERSION:2.0
PRODID:-//ChamberMaster//Event Calendar 2.0//EN
METHOD:PUBLISH
X-PUBLISHED-TTL:P3D
REFRESH-INTERVAL:P3D
CALSCALE:GREGORIAN
BEGIN:VEVENT
DTSTART;VALUE=DATE:20091109
DTEND;VALUE=DATE:20091114
TRANSP:TRANSPARENT
X-MICROSOFT-CDO-ALLDAYEVENT:TRUE
SUMMARY:Awareness of American Recycles Day
DESCRIPTION:The two Beatrice high school geoscience classes are going to be putting up posters\, doing newspaper articles\, school announcements\, and radio announcements.  We also will be doing a school contest on recycling.
X-ALT-DESC;FMTTYPE=text/html:The two Beatrice high school geoscience classes are going to be putting up posters\, doing newspaper articles\, school announcements\, and radio announcements.  We also will be doing a school contest on recycling.   
LOCATION:Beatrice High School
UID:e.41.1507
SEQUENCE:3
DTSTAMP:20260425T205101Z
URL:https://business.beatricechamber.com/events/details/awareness-of-american-recycles-day-11-09-2009-1507
END:VEVENT

END:VCALENDAR
