BEGIN:VCALENDAR
VERSION:2.0
PRODID:-//ChamberMaster//Event Calendar 2.0//EN
METHOD:PUBLISH
X-PUBLISHED-TTL:P3D
REFRESH-INTERVAL:P3D
CALSCALE:GREGORIAN
BEGIN:VEVENT
DTSTART;VALUE=DATE:20110921
DTEND;VALUE=DATE:20110922
TRANSP:TRANSPARENT
X-MICROSOFT-CDO-ALLDAYEVENT:TRUE
SUMMARY:Backpack Awareness Day
DESCRIPTION:Research shows that children carrying overloaded and improperly worn packs are likely to experience neck\, shoulder\, and back pain\; adverse effects on posture and the developing spine\; and compromised breathing and fatigue.  We will be doing FREE backpack checks on September 21st\, 2011 at our office.
X-ALT-DESC;FMTTYPE=text/html:Research shows that children carrying overloaded and improperly worn packs are likely to experience neck\, shoulder\, and back pain\; adverse effects on posture and the developing spine\; and compromised breathing and fatigue.&nbsp\; We will be doing FREE backpack checks on September 21st\, 2011 at our office.
LOCATION:Beatrice Family Chiropractic\, 2526 E. Court St.\, Beatrice\, NE 68310
UID:e.41.5106
SEQUENCE:3
DTSTAMP:20260424T122719Z
URL:https://business.beatricechamber.com/events/details/backpack-awareness-day-09-21-2011-5106
END:VEVENT

END:VCALENDAR
