BEGIN:VCALENDAR
VERSION:2.0
PRODID:-//ChamberMaster//Event Calendar 2.0//EN
METHOD:PUBLISH
X-PUBLISHED-TTL:P3D
REFRESH-INTERVAL:P3D
CALSCALE:GREGORIAN
BEGIN:VEVENT
DTSTART:20091021T220000Z
DTEND:20091022T000000Z
X-MICROSOFT-CDO-ALLDAYEVENT:FALSE
SUMMARY:BAH - First National Bank Omaha
DESCRIPTION:Business After Hours with our Host Relax after work and network with other Chamber Members!Register for Door Prizes! Bring a guest or coworker\, stop in to say hello and learn more about this Chamber member.
X-ALT-DESC;FMTTYPE=text/html:<div>Business After Hours with our Host</div><div>&nbsp\;</div><div>Relax after work and network with other Chamber Members!</div><div>Register for Door Prizes!</div><div>&nbsp\;</div><div>Bring a guest or coworker\, stop in to say hello and learn more about this Chamber member.&nbsp\;</div>
LOCATION:First National Bank2205 North 6th StIndian Creek Mall
UID:e.41.1463
SEQUENCE:3
DTSTAMP:20260425T221642Z
URL:https://business.beatricechamber.com/events/details/bah-first-national-bank-omaha-10-21-2009-1463
END:VEVENT

END:VCALENDAR
