BEGIN:VCALENDAR
VERSION:2.0
PRODID:-//ChamberMaster//Event Calendar 2.0//EN
METHOD:PUBLISH
X-PUBLISHED-TTL:P3D
REFRESH-INTERVAL:P3D
CALSCALE:GREGORIAN
BEGIN:VEVENT
DTSTART:20090820T220000Z
DTEND:20090821T000000Z
X-MICROSOFT-CDO-ALLDAYEVENT:FALSE
SUMMARY:BAH - Holiday Inn Express
DESCRIPTION:Business After Hours with our Host Relax after work and network with other Chamber Members!Register for Door Prizes! Bring a guest or coworker\, stop in to say hello and learn more about this Chamber member.
X-ALT-DESC;FMTTYPE=text/html:<div>Business After Hours with our Host</div><div>&nbsp\;</div><div>Relax after work and network with other Chamber Members!</div><div>Register for Door Prizes!</div><div>&nbsp\;</div><div>Bring a guest or coworker\, stop in to say hello and learn more about this Chamber member.&nbsp\;</div>
LOCATION:Holiday Inn Express4005 North 6th St
UID:e.41.1335
SEQUENCE:3
DTSTAMP:20260426T011844Z
URL:https://business.beatricechamber.com/events/details/bah-holiday-inn-express-08-20-2009-1335
END:VEVENT

END:VCALENDAR
