BEGIN:VCALENDAR
VERSION:2.0
PRODID:-//ChamberMaster//Event Calendar 2.0//EN
METHOD:PUBLISH
X-PUBLISHED-TTL:P3D
REFRESH-INTERVAL:P3D
CALSCALE:GREGORIAN
BEGIN:VEVENT
DTSTART:20091119T230000Z
DTEND:20091120T010000Z
X-MICROSOFT-CDO-ALLDAYEVENT:FALSE
SUMMARY:BAH - Pinnacle Bank
DESCRIPTION:Business After Hours with our Host Relax after work and network with other Chamber Members!Register for Door Prizes! Bring a guest or coworker\, stop in to say hello and learn more about this Chamber member.
X-ALT-DESC;FMTTYPE=text/html:<div>Business After Hours with our Host</div><div>&nbsp\;</div><div>Relax after work and network with other Chamber Members!</div><div>Register for Door Prizes!</div><div>&nbsp\;</div><div>Bring a guest or coworker\, stop in to say hello and learn more about this Chamber member.&nbsp\;</div>
LOCATION:Pinnacle BankMain Bank6th & Court
UID:e.41.1519
SEQUENCE:3
DTSTAMP:20260425T204934Z
URL:https://business.beatricechamber.com/events/details/bah-pinnacle-bank-11-19-2009-1519
END:VEVENT

END:VCALENDAR
