BEGIN:VCALENDAR
VERSION:2.0
PRODID:-//ChamberMaster//Event Calendar 2.0//EN
METHOD:PUBLISH
X-PUBLISHED-TTL:P3D
REFRESH-INTERVAL:P3D
CALSCALE:GREGORIAN
BEGIN:VEVENT
DTSTART:20100415T133000Z
DTEND:20100415T183000Z
X-MICROSOFT-CDO-ALLDAYEVENT:FALSE
SUMMARY:Bake Sale
DESCRIPTION:BAKE SALE!Pies\, cookies\, bars\, cakes\, drawings.  Beatrice Community Hospital & Health Center CafeteriaThursday\, April 15\, 20108:30 am - 1:30 pm Freewill donation to American Cancer Society Relay for Life in Gage County.
X-ALT-DESC;FMTTYPE=text/html:<div>BAKE&nbsp\;SALE!</div><div>Pies\, cookies\, bars\, cakes\, drawings.</div><div>&nbsp\;</div><div>&nbsp\;</div><div>Beatrice Community Hospital &amp\;&nbsp\;Health Center Cafeteria</div><div>Thursday\, April 15\, 2010</div><div>8:30 am - 1:30 pm</div><div>&nbsp\;</div><div>Freewill donation to American Cancer Society Relay for Life in Gage County.</div>
LOCATION:
UID:e.41.1955
SEQUENCE:3
DTSTAMP:20260425T135141Z
URL:https://business.beatricechamber.com/events/details/bake-sale-04-15-2010-1955
END:VEVENT

END:VCALENDAR
