BEGIN:VCALENDAR
VERSION:2.0
PRODID:-//ChamberMaster//Event Calendar 2.0//EN
METHOD:PUBLISH
X-PUBLISHED-TTL:P3D
REFRESH-INTERVAL:P3D
CALSCALE:GREGORIAN
BEGIN:VEVENT
DTSTART;VALUE=DATE:20120218
DTEND;VALUE=DATE:20120219
TRANSP:TRANSPARENT
X-MICROSOFT-CDO-ALLDAYEVENT:TRUE
SUMMARY:Ballet Master Class & Workshop
DESCRIPTION:BALLET MASTER CLASS & WORKSHOP \n\n     Taught by Miss Bret Samson & Mr. Sasha York\n\n     (Dancers with Ballet NE\, Omaha's professional ballet company)\n\n\n\nat ROS Dance Studio\, 415 Court Street\, Beatrice\n\n\n\nROS IS OFFERING A BALLET MASTER DANCE CLASS FOR DANCERS AGES 5-ADULT!  Adult dancers who also have danced in the past are welcome to register also!!\n\n \n\n4 year old dancers:  If your dancer is not quite 5 years and they would like to participate\, please let me know!  I think that some of the almost 5 year old students should be fine!!\n\n \n\n\n\n \n\n SATURDAY\, FEBRUARY 18TH\n\n2:30-3:30PM         Master Dance Class       Ages 5-8                      (Ballet & Variations)             $12\n\n \n\n3:45-5:00PM         Master Dance Class       Ages 9-11                    (Ballet & Variations)             $15\n\n \n\n5:00-6:30PM        Master Dance Class       Ages 12-Adult              (Ballet & Variations)            $19                             \n\n \n\nDANCE ATTIRE: Black\, pink or burgundy leotard. Pink tights and Pink ballet shoes.\n\nHAIR:                  Secured in a bun\n\nARRIVE:              Please arrive 10 minutes before class starts to check in \n\n \n\n \n\nPRE-REGISTRATION REQUIREDby February 17!\n\n \n\nWALK  IN FEES DAY OF MASTER CLASS:\n\n2:30-3:30PM        Master Class      $15\n\n3:45-5:00PM        Master Class      $18\n\n5:00-6:30PM        Master Class      $22\n\n \n\n------------------------------------------------------------------------------------------------------------------------\n\n \n\nDANCER'S NAME_________________________________________________GRADE______________\n\n(Payment: make checks payable to ROS or you can pay online using the "donations" tab and filling in the amount due. Registrations will only be accepted with payment)\n\n \n\nPlease fill out and return to ROS Dance studio with your payment to secure your place.\n\nThank-you!
X-ALT-DESC;FMTTYPE=text/html:&nbsp\;<span style="font-size: 16pt"><span style="color: purple"><span style="font-family: calibri\, sans-serif">BALLET MASTER CLASS &amp\; WORKSHOP </span></span></span><br />\n<span style="font-size: 14pt"><span style="color: purple"><span style="font-family: calibri\, sans-serif">&nbsp\;&nbsp\; &nbsp\;&nbsp\;Taught by Miss Bret Samson &amp\; Mr. Sasha York</span></span></span><br />\n&nbsp\;&nbsp\;&nbsp\;&nbsp\; <span style="font-size: 10pt"><span style="color: purple"><span style="font-family: calibri\, sans-serif">(Dancers with Ballet NE\, Omaha&rsquo\;s professional ballet company)<br />\n<br />\nat ROS Dance Studio\, 415 Court Street\, Beatrice<br />\n<br />\n<span style="font-family: times new roman"><strong><span style="font-size: 13.5pt"><span style="color: #003300">ROS IS OFFERING A BALLET MASTER DANCE CLASS FOR DANCERS AGES 5-ADULT!&nbsp\; </span></span></strong></span><span style="font-size: medium"><span style="font-family: times new roman"><strong><span style="color: #003300">Adult dancers who also have danced in the past are welcome to register also!!</span></strong></span></span><br />\n&nbsp\;<br />\n<span style="font-size: medium"><span style="font-family: times new roman"><span style="color: red">4 year old dancers:&nbsp\; If your dancer is not quite 5 years and they would like to participate\, please let me know!&nbsp\; </span></span></span><span style="font-size: medium"><span style="font-family: times new roman"><span style="color: red">I think that some of the almost 5 year old students should be fine!!</span></span></span><br />\n&nbsp\;</span></span></span><br />\n<br />\n&nbsp\;<br />\n&nbsp\;<span style="font-size: 18pt"><span style="color: red"><span style="font-family: calibri\, sans-serif">SATURDAY\, FEBRUARY 18TH</span></span></span><br />\n<span style="font-size: 14pt"><span style="color: #003300"><span style="font-family: calibri\, sans-serif">2:30-3:30PM &nbsp\;&nbsp\;&nbsp\;&nbsp\;&nbsp\;&nbsp\;&nbsp\;&nbsp\;Master Dance Class&nbsp\;&nbsp\;&nbsp\;&nbsp\;&nbsp\;&nbsp\; Ages 5-8 &nbsp\;&nbsp\;&nbsp\;&nbsp\;&nbsp\;&nbsp\;&nbsp\;&nbsp\;&nbsp\;&nbsp\;&nbsp\;&nbsp\;&nbsp\;&nbsp\;&nbsp\;&nbsp\;&nbsp\;&nbsp\;&nbsp\;&nbsp\;&nbsp\;(Ballet &amp\; Variations)&nbsp\; &nbsp\;&nbsp\;&nbsp\;&nbsp\;&nbsp\;&nbsp\;&nbsp\;&nbsp\;&nbsp\;&nbsp\;&nbsp\;$12</span></span></span><br />\n&nbsp\;<br />\n<span style="font-size: 14pt"><span style="color: #003300"><span style="font-family: calibri\, sans-serif">3:45-5:00PM&nbsp\;&nbsp\;&nbsp\;&nbsp\;&nbsp\;&nbsp\;&nbsp\;&nbsp\; Master Dance Class&nbsp\;&nbsp\;&nbsp\;&nbsp\;&nbsp\;&nbsp\; Ages 9-11&nbsp\;&nbsp\;&nbsp\;&nbsp\;&nbsp\;&nbsp\;&nbsp\;&nbsp\;&nbsp\;&nbsp\;&nbsp\;&nbsp\;&nbsp\;&nbsp\;&nbsp\;&nbsp\;&nbsp\;&nbsp\;&nbsp\; (Ballet &amp\; Variations)&nbsp\;&nbsp\;&nbsp\;&nbsp\;&nbsp\; &nbsp\;&nbsp\;&nbsp\;&nbsp\;&nbsp\;&nbsp\;&nbsp\;$15</span></span></span><br />\n&nbsp\;<br />\n<span style="font-size: 14pt"><span style="color: #003300"><span style="font-family: calibri\, sans-serif">5:00-6:30PM&nbsp\;&nbsp\;&nbsp\;&nbsp\;&nbsp\;&nbsp\;&nbsp\; Master Dance Class&nbsp\;&nbsp\;&nbsp\;&nbsp\;&nbsp\;&nbsp\; Ages 12-Adult &nbsp\;&nbsp\;&nbsp\;&nbsp\;&nbsp\;&nbsp\;&nbsp\;&nbsp\;&nbsp\;&nbsp\;&nbsp\;&nbsp\;&nbsp\;(Ballet &amp\; Variations) &nbsp\;&nbsp\;&nbsp\;&nbsp\;&nbsp\;&nbsp\;&nbsp\;&nbsp\;&nbsp\;&nbsp\;&nbsp\;$19&nbsp\;&nbsp\;&nbsp\;&nbsp\;&nbsp\;&nbsp\;&nbsp\;&nbsp\;&nbsp\;&nbsp\;&nbsp\;&nbsp\;&nbsp\;&nbsp\;&nbsp\;&nbsp\;&nbsp\;&nbsp\;&nbsp\;&nbsp\;&nbsp\;&nbsp\;&nbsp\;&nbsp\;&nbsp\;&nbsp\;&nbsp\;&nbsp\; </span></span></span><br />\n&nbsp\;<br />\n<span style="font-size: 14pt"><span style="color: navy"><span style="font-family: calibri\, sans-serif">DANCE ATTIRE: Black\, pink or burgundy leotard. Pink tights and Pink ballet shoes.</span></span></span><br />\n<span style="font-size: 14pt"><span style="color: navy"><span style="font-family: calibri\, sans-serif">HAIR:&nbsp\;&nbsp\;&nbsp\;&nbsp\;&nbsp\;&nbsp\;&nbsp\;&nbsp\;&nbsp\;&nbsp\;&nbsp\;&nbsp\;&nbsp\;&nbsp\;&nbsp\;&nbsp\;&nbsp\; Secured in a bun</span></span></span><br />\n<span style="font-size: 14pt"><span style="color: navy"><span style="font-family: calibri\, sans-serif">ARRIVE: &nbsp\;&nbsp\;&nbsp\;&nbsp\;&nbsp\;&nbsp\;&nbsp\;&nbsp\;&nbsp\;&nbsp\;&nbsp\;&nbsp\;&nbsp\;Please arrive 10 minutes before class starts to check in </span></span></span><br />\n&nbsp\;<br />\n&nbsp\;<br />\n<span style="font-size: 18pt"><span style="color: red"><span style="font-family: calibri\, sans-serif">PRE-REGISTRATION REQUIRED</span></span></span><span style="font-size: 18pt"><span style="color: black"><span style="font-family: calibri\, sans-serif">by February 17!</span></span></span><br />\n&nbsp\;<br />\n<span style="font-size: 18pt"><span style="color: red">WALK &ndash\;IN FEES DAY OF MASTER CLASS:</span></span><br />\n<u><span style="font-size: 14pt">2:30-3:30PM&nbsp\;&nbsp\;&nbsp\;&nbsp\;&nbsp\;&nbsp\;&nbsp\; Master Class&nbsp\; &nbsp\;&nbsp\;&nbsp\;&nbsp\;$15</span></u><br />\n<u><span style="font-size: 14pt">3:45-5:00PM&nbsp\;&nbsp\;&nbsp\;&nbsp\;&nbsp\;&nbsp\; &nbsp\;Master Class&nbsp\; &nbsp\;&nbsp\;&nbsp\;&nbsp\;$18</span></u><br />\n<u><span style="font-size: 14pt">5:00-6:30PM&nbsp\;&nbsp\;&nbsp\;&nbsp\;&nbsp\;&nbsp\;&nbsp\; Master Class&nbsp\;&nbsp\;&nbsp\;&nbsp\;&nbsp\; $22</span></u><br />\n&nbsp\;<br />\n<u><span style="font-size: 14pt">------------------------------------------------------------------------------------------------------------------------</span></u><br />\n&nbsp\;<br />\n<span style="font-size: 14pt"><span style="font-family: calibri\, sans-serif">DANCER&rsquo\;S NAME_________________________________________________GRADE______________</span></span><br />\n<span style="font-size: 14pt">(Payment: make checks payable to ROS or you can pay online using the &quot\;donations&quot\; tab and filling in the amount due. Registrations will only be accepted with payment)</span><br />\n&nbsp\;<br />\n<span style="font-size: 14pt">Please fill out and return to ROS Dance studio with your payment to secure your place.</span><br />\n<span style="font-size: 14pt">Thank-you!</span><br />\n&nbsp\;<br />\n
LOCATION:
UID:e.41.5300
SEQUENCE:3
DTSTAMP:20260422T185051Z
URL:https://business.beatricechamber.com/events/details/ballet-master-class-workshop-02-18-2012-5300
END:VEVENT

END:VCALENDAR
