BEGIN:VCALENDAR
VERSION:2.0
PRODID:-//ChamberMaster//Event Calendar 2.0//EN
METHOD:PUBLISH
X-PUBLISHED-TTL:P3D
REFRESH-INTERVAL:P3D
CALSCALE:GREGORIAN
BEGIN:VEVENT
DTSTART:20120526T233000Z
DTEND:20120526T233000Z
X-MICROSOFT-CDO-ALLDAYEVENT:FALSE
SUMMARY:Banquet begins taking reservations
DESCRIPTION:The 91st Wymore Southern Alumni Banquet and Reunion are nearing completion. The banquet will be held Saturday\, May 26th\, in the high school gym beginning at 6:30 p.m. The meal is being catered by Ricky's Cafe.\n\n\n\nNo tickets will be sold at the door and reservations ($10 per person) should be mailed to Lois Milburn\, 720 S. 12th St.\, Wymore\, NE 68466\, by May 22.
X-ALT-DESC;FMTTYPE=text/html:The 91st&nbsp\;Wymore Southern&nbsp\;Alumni Banquet and Reunion are nearing completion.&nbsp\;The banquet will be held&nbsp\;Saturday\, May 26th\, in the&nbsp\;high school gym&nbsp\;beginning&nbsp\;at 6:30 p.m.&nbsp\;The meal&nbsp\;is being catered&nbsp\;by Ricky&#39\;s Cafe.<br />\n<br />\nNo tickets will be&nbsp\;sold at&nbsp\;the door and&nbsp\;reservations ($10 per person)&nbsp\;should be mailed to Lois&nbsp\;Milburn\,&nbsp\;720 S. 12th St.\, Wymore\, NE&nbsp\;68466\, by May&nbsp\;22.
LOCATION:
UID:e.41.5718
SEQUENCE:3
DTSTAMP:20260422T142428Z
URL:https://business.beatricechamber.com/events/details/banquet-begins-taking-reservations-05-26-2012-5718
END:VEVENT

END:VCALENDAR
