BEGIN:VCALENDAR
VERSION:2.0
PRODID:-//ChamberMaster//Event Calendar 2.0//EN
METHOD:PUBLISH
X-PUBLISHED-TTL:P3D
REFRESH-INTERVAL:P3D
CALSCALE:GREGORIAN
BEGIN:VEVENT
DTSTART:20120311T150000Z
DTEND:20120311T200000Z
X-MICROSOFT-CDO-ALLDAYEVENT:FALSE
SUMMARY:Barbecue luncheon benefit for Mel and Wanda Rademacher
DESCRIPTION:Clatonia Community Center. Freewill offering\; matching funds applied by Thrivent Financial Homestead Chapter. Hosted by St Paul's Lutheran Church\, DeWitt. Proceeds to purchase a used\, handicap accessible vehicle for the Rademachers. Mel Rademachers is currently at the Wilber Care Center following a stroke in September.
X-ALT-DESC;FMTTYPE=text/html:Clatonia Community Center. Freewill offering\; matching funds applied by Thrivent Financial Homestead Chapter. Hosted by St Paul&#39\;s Lutheran Church\, DeWitt. Proceeds to purchase a used\, handicap accessible vehicle for the Rademachers. Mel Rademachers is currently at the Wilber Care Center following a stroke in September.
LOCATION:
UID:e.41.5393
SEQUENCE:3
DTSTAMP:20260422T173602Z
URL:https://business.beatricechamber.com/events/details/barbecue-luncheon-benefit-for-mel-and-wanda-rademacher-03-11-2012-5393
END:VEVENT

END:VCALENDAR
