BEGIN:VCALENDAR
VERSION:2.0
PRODID:-//ChamberMaster//Event Calendar 2.0//EN
METHOD:PUBLISH
X-PUBLISHED-TTL:P3D
REFRESH-INTERVAL:P3D
CALSCALE:GREGORIAN
BEGIN:VEVENT
DTSTART:20101218T153000Z
DTEND:20101218T190000Z
X-MICROSOFT-CDO-ALLDAYEVENT:FALSE
SUMMARY:Bargain Box Christmas half- price sale:
DESCRIPTION:Bargain Box Christmas half-price sale:\n\n\n\n9:30 a.m.-1 p.m.\, 117 S. Fifth St.\, Beatrice. All-volunteer store. Proceeds benefit Mosaic Residents. Open Thursdays and Saturdays.
X-ALT-DESC;FMTTYPE=text/html:<strong><span style="font-size: 16px\;">Bargain Box Christmas half-price sale</span>:</strong><br />\n<br />\n9:30 a.m.-1 p.m.\, 117 S. Fifth St.\, Beatrice. All-volunteer store. Proceeds benefit Mosaic Residents. Open Thursdays and Saturdays.<br />\n
LOCATION:
UID:e.41.2916
SEQUENCE:3
DTSTAMP:20260425T014628Z
URL:https://business.beatricechamber.com/events/details/bargain-box-christmas-half-price-sale-12-18-2010-2916
END:VEVENT

END:VCALENDAR
