BEGIN:VCALENDAR
VERSION:2.0
PRODID:-//ChamberMaster//Event Calendar 2.0//EN
METHOD:PUBLISH
X-PUBLISHED-TTL:P3D
REFRESH-INTERVAL:P3D
CALSCALE:GREGORIAN
BEGIN:VEVENT
DTSTART;VALUE=DATE:20100611
DTEND;VALUE=DATE:20100614
TRANSP:TRANSPARENT
X-MICROSOFT-CDO-ALLDAYEVENT:TRUE
SUMMARY:Bargains on Byways 6/11-13/2010
DESCRIPTION:4th Annual "Bargains on Byways"3 day event to promote towns\, businesses\, and people in nine counties in Nebraska's Frontier Trails Region (Clay\, Franklin\, Furnas\, Gosper\, Harlan\, Kearney\, Nuckolls\, Phelps\, Webster). June 11-12-13 Come and see open stores\, Garage & Yard Sales... "...and find a bargain or two along the way!"
X-ALT-DESC;FMTTYPE=text/html:<div><strong><span style="font-size: medium">4th Annual &quot\;Bargains on Byways&quot\;</span></strong></div><div><span style="font-size: small">3 day event to promote towns\, businesses\, and people in nine counties in Nebraska's Frontier Trails Region (Clay\, Franklin\, Furnas\,&nbsp\;Gosper\, Harlan\, Kearney\, Nuckolls\, Phelps\, Webster).</span></div><div>&nbsp\;</div><div><strong><span style="font-size: small">June 11-12-13</span></strong></div><div>&nbsp\;</div><div><span style="font-size: small">Come and see open stores\, Garage &amp\; Yard Sales...</span></div><div>&nbsp\;</div><div><span style="font-size: small">&quot\;...and find a bargain or two along the way!&quot\;</span></div>
LOCATION:
UID:e.41.1657
SEQUENCE:3
DTSTAMP:20260425T105606Z
URL:https://business.beatricechamber.com/events/details/bargains-on-byways-6-11-13-2010-06-11-2010-1657
END:VEVENT

END:VCALENDAR
