BEGIN:VCALENDAR
VERSION:2.0
PRODID:-//ChamberMaster//Event Calendar 2.0//EN
METHOD:PUBLISH
X-PUBLISHED-TTL:P3D
REFRESH-INTERVAL:P3D
CALSCALE:GREGORIAN
BEGIN:VEVENT
DTSTART:20101215T233000Z
DTEND:20101215T233000Z
X-MICROSOFT-CDO-ALLDAYEVENT:FALSE
SUMMARY:Barneston Community Soup Supper
DESCRIPTION:Barneston Community Soup Supper: will be held at 5:30 p.m. Dec. 15\, at the Barneston Legion with a visit from Santa at 7 p.m. It is sponsored by the Barneston Commercial Club\, assisted by the Barneston Masons Lodge. They will be serving soup\, hot dogs and cookies. There will be a drawing for turkey and hams.
X-ALT-DESC;FMTTYPE=text/html:<strong>Barneston Community Soup Supper: will be held at 5:30 p.m. Dec. 15\, at the Barneston Legion with a visit from Santa at 7 p.m. It is sponsored by the Barneston Commercial Club\, assisted by the Barneston Masons Lodge. They will be serving soup\, hot dogs and cookies. There will be a drawing for turkey and hams.</strong>
LOCATION:
UID:e.41.2902
SEQUENCE:3
DTSTAMP:20260425T014207Z
URL:https://business.beatricechamber.com/events/details/barneston-community-soup-supper-12-15-2010-2902
END:VEVENT

END:VCALENDAR
