BEGIN:VCALENDAR
VERSION:2.0
PRODID:-//ChamberMaster//Event Calendar 2.0//EN
METHOD:PUBLISH
X-PUBLISHED-TTL:P3D
REFRESH-INTERVAL:P3D
CALSCALE:GREGORIAN
BEGIN:VEVENT
DTSTART;VALUE=DATE:20111120
DTEND;VALUE=DATE:20111121
TRANSP:TRANSPARENT
X-MICROSOFT-CDO-ALLDAYEVENT:TRUE
SUMMARY:Barneston Holiday Extravaganza
DESCRIPTION:Barneston Holiday Extravaganza\n\n\n\n15 + vendors\n\nDoor Prizes\n\n\n\nBarneston Community Center\n\n\n\nSunday\, November 20\n\n12 - 5 pm\n\n\n\nbarnestonextravaganza@yahoo.com
X-ALT-DESC;FMTTYPE=text/html:Barneston Holiday Extravaganza<br />\n<br />\n15 + vendors<br />\nDoor Prizes<br />\n<br />\nBarneston Community Center<br />\n<br />\nSunday\, November 20<br />\n12 - 5 pm<br />\n<br />\n<a href="mailto:barnestonextravaganza@yahoo.com">barnestonextravaganza@yahoo.com</a>
LOCATION:
UID:e.41.5261
SEQUENCE:3
DTSTAMP:20260424T100048Z
URL:https://business.beatricechamber.com/events/details/barneston-holiday-extravaganza-11-20-2011-5261
END:VEVENT

END:VCALENDAR
